Package: keggorthology Version: 2.59.0 Command: /Library/Frameworks/R.framework/Resources/bin/R CMD build --keep-empty-dirs --no-resave-data keggorthology StartedAt: 2025-02-20 16:45:54 -0500 (Thu, 20 Feb 2025) EndedAt: 2025-02-20 16:46:04 -0500 (Thu, 20 Feb 2025) EllapsedTime: 10.1 seconds RetCode: 0 Status: OK PackageFile: keggorthology_2.59.0.tar.gz PackageFileSize: 787.6 KiB