Package: keggorthology Version: 2.59.0 Command: rm -rf keggorthology.buildbin-libdir && mkdir keggorthology.buildbin-libdir && /Users/biocbuild/BBS/utils/build-universal.sh keggorthology_2.59.0.tar.gz /Library/Frameworks/R.framework/Resources/bin/R keggorthology.buildbin-libdir StartedAt: 2025-02-20 22:23:30 -0500 (Thu, 20 Feb 2025) EndedAt: 2025-02-20 22:23:37 -0500 (Thu, 20 Feb 2025) EllapsedTime: 7.1 seconds RetCode: 0 Status: OK PackageFile: keggorthology_2.59.0.tgz PackageFileSize: 816.7 KiB