Package: kebabs Version: 1.41.0 Command: /Library/Frameworks/R.framework/Resources/bin/R CMD check --install=check:kebabs.install-out.txt --library=/Library/Frameworks/R.framework/Resources/library --no-vignettes --timings kebabs_1.41.0.tar.gz StartedAt: 2025-02-19 21:14:55 -0500 (Wed, 19 Feb 2025) EndedAt: 2025-02-19 21:18:11 -0500 (Wed, 19 Feb 2025) EllapsedTime: 195.4 seconds RetCode: 0 Status: OK CheckDir: kebabs.Rcheck Warnings: 0