Package: kebabs Version: 1.41.0 Command: /Library/Frameworks/R.framework/Resources/bin/R CMD check --install=check:kebabs.install-out.txt --library=/Library/Frameworks/R.framework/Resources/library --no-vignettes --timings kebabs_1.41.0.tar.gz StartedAt: 2025-02-18 19:54:53 -0500 (Tue, 18 Feb 2025) EndedAt: 2025-02-18 19:56:02 -0500 (Tue, 18 Feb 2025) EllapsedTime: 68.8 seconds RetCode: 0 Status: OK CheckDir: kebabs.Rcheck Warnings: 0