Package: katdetectr Version: 1.9.0 Command: /home/biocbuild/bbs-3.21-bioc/R/bin/R CMD INSTALL katdetectr StartedAt: 2025-02-20 15:55:55 -0500 (Thu, 20 Feb 2025) EndedAt: 2025-02-20 15:56:34 -0500 (Thu, 20 Feb 2025) EllapsedTime: 39.3 seconds RetCode: 0 Status: OK