Package: katdetectr Version: 1.9.0 Command: /home/biocbuild/bbs-3.21-bioc/R/bin/R CMD check --install=check:katdetectr.install-out.txt --library=/home/biocbuild/bbs-3.21-bioc/R/site-library --timings katdetectr_1.9.0.tar.gz StartedAt: 2025-02-20 23:04:18 -0500 (Thu, 20 Feb 2025) EndedAt: 2025-02-20 23:10:00 -0500 (Thu, 20 Feb 2025) EllapsedTime: 341.6 seconds RetCode: 0 Status: OK CheckDir: katdetectr.Rcheck Warnings: 0