Package: katdetectr Version: 1.9.0 Command: /home/biocbuild/bbs-3.21-bioc/R/bin/R CMD build --keep-empty-dirs --no-resave-data katdetectr StartedAt: 2025-02-20 17:57:05 -0500 (Thu, 20 Feb 2025) EndedAt: 2025-02-20 17:58:22 -0500 (Thu, 20 Feb 2025) EllapsedTime: 77.1 seconds RetCode: 0 Status: OK PackageFile: katdetectr_1.9.0.tar.gz PackageFileSize: 1.349 MiB