Package: katdetectr Version: 1.9.0 Command: /Library/Frameworks/R.framework/Resources/bin/R CMD INSTALL katdetectr StartedAt: 2025-02-20 15:35:19 -0500 (Thu, 20 Feb 2025) EndedAt: 2025-02-20 15:36:09 -0500 (Thu, 20 Feb 2025) EllapsedTime: 50.5 seconds RetCode: 0 Status: OK