Package: katdetectr Version: 1.9.0 Command: /Library/Frameworks/R.framework/Resources/bin/R CMD INSTALL katdetectr StartedAt: 2025-02-20 15:23:03 -0500 (Thu, 20 Feb 2025) EndedAt: 2025-02-20 15:23:19 -0500 (Thu, 20 Feb 2025) EllapsedTime: 15.9 seconds RetCode: 0 Status: OK