Package: katdetectr Version: 1.9.0 Command: /Library/Frameworks/R.framework/Resources/bin/R CMD check --install=check:katdetectr.install-out.txt --library=/Library/Frameworks/R.framework/Resources/library --no-vignettes --timings katdetectr_1.9.0.tar.gz StartedAt: 2025-02-20 19:53:00 -0500 (Thu, 20 Feb 2025) EndedAt: 2025-02-20 19:54:57 -0500 (Thu, 20 Feb 2025) EllapsedTime: 117.6 seconds RetCode: 0 Status: OK CheckDir: katdetectr.Rcheck Warnings: 0