Package: katdetectr Version: 1.9.0 Command: rm -rf katdetectr.buildbin-libdir && mkdir katdetectr.buildbin-libdir && /Users/biocbuild/BBS/utils/build-universal.sh katdetectr_1.9.0.tar.gz /Library/Frameworks/R.framework/Resources/bin/R katdetectr.buildbin-libdir StartedAt: 2025-02-20 22:23:27 -0500 (Thu, 20 Feb 2025) EndedAt: 2025-02-20 22:23:44 -0500 (Thu, 20 Feb 2025) EllapsedTime: 17.4 seconds RetCode: 0 Status: OK PackageFile: katdetectr_1.9.0.tgz PackageFileSize: 1.807 MiB