Package: karyoploteR Version: 1.33.0 Command: E:\biocbuild\bbs-3.21-bioc\R\bin\R.exe CMD INSTALL karyoploteR StartedAt: 2025-02-20 16:34:21 -0500 (Thu, 20 Feb 2025) EndedAt: 2025-02-20 16:35:31 -0500 (Thu, 20 Feb 2025) EllapsedTime: 70.4 seconds RetCode: 0 Status: OK