Package: karyoploteR Version: 1.33.0 Command: /home/biocbuild/bbs-3.21-bioc/R/bin/R CMD build --keep-empty-dirs --no-resave-data karyoploteR StartedAt: 2025-02-19 17:48:29 -0500 (Wed, 19 Feb 2025) EndedAt: 2025-02-19 17:49:46 -0500 (Wed, 19 Feb 2025) EllapsedTime: 77.1 seconds RetCode: 1 Status: ERROR PackageFile: None PackageFileSize: NA