Package: ivygapSE Version: 1.29.0 Command: E:\biocbuild\bbs-3.21-bioc\R\bin\R.exe CMD INSTALL ivygapSE StartedAt: 2025-02-20 16:55:59 -0500 (Thu, 20 Feb 2025) EndedAt: 2025-02-20 16:56:31 -0500 (Thu, 20 Feb 2025) EllapsedTime: 32.3 seconds RetCode: 0 Status: OK