Package: ivygapSE Version: 1.29.0 Command: chmod a+r ivygapSE -R && E:\biocbuild\bbs-3.21-bioc\R\bin\R.exe CMD build --keep-empty-dirs --no-resave-data ivygapSE StartedAt: 2025-02-20 19:34:04 -0500 (Thu, 20 Feb 2025) EndedAt: 2025-02-20 19:36:48 -0500 (Thu, 20 Feb 2025) EllapsedTime: 164.0 seconds RetCode: 0 Status: OK PackageFile: ivygapSE_1.29.0.tar.gz PackageFileSize: 15.28 MiB