Package: ivygapSE Version: 1.29.0 Command: /home/biocbuild/bbs-3.21-bioc/R/bin/R CMD build --keep-empty-dirs --no-resave-data ivygapSE StartedAt: 2025-02-20 17:56:56 -0500 (Thu, 20 Feb 2025) EndedAt: 2025-02-20 17:58:58 -0500 (Thu, 20 Feb 2025) EllapsedTime: 122.2 seconds RetCode: 0 Status: OK PackageFile: ivygapSE_1.29.0.tar.gz PackageFileSize: 15.44 MiB