Package: ivygapSE Version: 1.29.0 Command: /Library/Frameworks/R.framework/Resources/bin/R CMD build --keep-empty-dirs --no-resave-data ivygapSE StartedAt: 2025-02-20 17:08:00 -0500 (Thu, 20 Feb 2025) EndedAt: 2025-02-20 17:10:13 -0500 (Thu, 20 Feb 2025) EllapsedTime: 132.7 seconds RetCode: 0 Status: OK PackageFile: ivygapSE_1.29.0.tar.gz PackageFileSize: 15.35 MiB