Package: iterativeBMAsurv Version: 1.65.0 Command: E:\biocbuild\bbs-3.21-bioc\R\bin\R.exe CMD INSTALL iterativeBMAsurv StartedAt: 2025-02-20 15:52:59 -0500 (Thu, 20 Feb 2025) EndedAt: 2025-02-20 15:53:23 -0500 (Thu, 20 Feb 2025) EllapsedTime: 23.7 seconds RetCode: 0 Status: OK