Package: iterativeBMAsurv Version: 1.65.0 Command: chmod a+r iterativeBMAsurv -R && E:\biocbuild\bbs-3.21-bioc\R\bin\R.exe CMD build --keep-empty-dirs --no-resave-data iterativeBMAsurv StartedAt: 2025-02-20 19:33:38 -0500 (Thu, 20 Feb 2025) EndedAt: 2025-02-20 19:34:15 -0500 (Thu, 20 Feb 2025) EllapsedTime: 37.3 seconds RetCode: 0 Status: OK PackageFile: iterativeBMAsurv_1.65.0.tar.gz PackageFileSize: 198.2 KiB