Package: iterativeBMAsurv Version: 1.65.0 Command: rm -rf iterativeBMAsurv.buildbin-libdir && mkdir iterativeBMAsurv.buildbin-libdir && E:\biocbuild\bbs-3.21-bioc\R\bin\R.exe CMD INSTALL --build --library=iterativeBMAsurv.buildbin-libdir iterativeBMAsurv_1.65.0.tar.gz StartedAt: 2025-02-20 08:02:30 -0500 (Thu, 20 Feb 2025) EndedAt: 2025-02-20 08:02:52 -0500 (Thu, 20 Feb 2025) EllapsedTime: 22.4 seconds RetCode: 0 Status: OK PackageFile: iterativeBMAsurv_1.65.0.zip PackageFileSize: 281.4 KiB