Package: iterativeBMAsurv Version: 1.65.0 Command: /Library/Frameworks/R.framework/Resources/bin/R CMD check --install=check:iterativeBMAsurv.install-out.txt --library=/Library/Frameworks/R.framework/Resources/library --no-vignettes --timings iterativeBMAsurv_1.65.0.tar.gz StartedAt: 2025-02-19 19:54:52 -0500 (Wed, 19 Feb 2025) EndedAt: 2025-02-19 19:55:21 -0500 (Wed, 19 Feb 2025) EllapsedTime: 29.4 seconds RetCode: 0 Status: WARNINGS CheckDir: iterativeBMAsurv.Rcheck Warnings: 1