Package: iterativeBMAsurv Version: 1.65.0 Command: rm -rf iterativeBMAsurv.buildbin-libdir && mkdir iterativeBMAsurv.buildbin-libdir && /Users/biocbuild/BBS/utils/build-universal.sh iterativeBMAsurv_1.65.0.tar.gz /Library/Frameworks/R.framework/Resources/bin/R iterativeBMAsurv.buildbin-libdir StartedAt: 2025-02-19 22:26:30 -0500 (Wed, 19 Feb 2025) EndedAt: 2025-02-19 22:26:33 -0500 (Wed, 19 Feb 2025) EllapsedTime: 3.1 seconds RetCode: 0 Status: OK PackageFile: iterativeBMAsurv_1.65.0.tgz PackageFileSize: 276 KiB