Package: iterativeBMA Version: 1.65.0 Command: E:\biocbuild\bbs-3.21-bioc\R\bin\R.exe CMD INSTALL iterativeBMA StartedAt: 2025-02-19 16:28:14 -0500 (Wed, 19 Feb 2025) EndedAt: 2025-02-19 16:28:42 -0500 (Wed, 19 Feb 2025) EllapsedTime: 28.6 seconds RetCode: 0 Status: OK