Package: isomiRs Version: 1.35.0 Command: chmod a+r isomiRs -R && E:\biocbuild\bbs-3.21-bioc\R\bin\R.exe CMD build --keep-empty-dirs --no-resave-data isomiRs StartedAt: 2025-02-18 19:27:36 -0500 (Tue, 18 Feb 2025) EndedAt: 2025-02-18 19:30:05 -0500 (Tue, 18 Feb 2025) EllapsedTime: 148.9 seconds RetCode: 0 Status: OK PackageFile: isomiRs_1.35.0.tar.gz PackageFileSize: 4.074 MiB