Package: isomiRs Version: 1.35.0 Command: rm -rf isomiRs.buildbin-libdir && mkdir isomiRs.buildbin-libdir && E:\biocbuild\bbs-3.21-bioc\R\bin\R.exe CMD INSTALL --build --library=isomiRs.buildbin-libdir isomiRs_1.35.0.tar.gz StartedAt: 2025-02-20 08:02:24 -0500 (Thu, 20 Feb 2025) EndedAt: 2025-02-20 08:03:40 -0500 (Thu, 20 Feb 2025) EllapsedTime: 76.1 seconds RetCode: 0 Status: OK PackageFile: isomiRs_1.35.0.zip PackageFileSize: 2.039 MiB