Package: isomiRs Version: 1.35.0 Command: /home/biocbuild/bbs-3.21-bioc/R/bin/R CMD check --install=check:isomiRs.install-out.txt --library=/home/biocbuild/bbs-3.21-bioc/R/site-library --timings isomiRs_1.35.0.tar.gz StartedAt: 2025-02-18 23:13:57 -0500 (Tue, 18 Feb 2025) EndedAt: 2025-02-18 23:19:04 -0500 (Tue, 18 Feb 2025) EllapsedTime: 306.4 seconds RetCode: 0 Status: OK CheckDir: isomiRs.Rcheck Warnings: 0