Package: isomiRs Version: 1.35.0 Command: /Library/Frameworks/R.framework/Resources/bin/R CMD build --keep-empty-dirs --no-resave-data isomiRs StartedAt: 2025-02-18 17:06:21 -0500 (Tue, 18 Feb 2025) EndedAt: 2025-02-18 17:07:57 -0500 (Tue, 18 Feb 2025) EllapsedTime: 96.0 seconds RetCode: 0 Status: OK PackageFile: isomiRs_1.35.0.tar.gz PackageFileSize: 4.519 MiB