Package: isobar Version: 1.53.0 Command: /Library/Frameworks/R.framework/Resources/bin/R CMD build --keep-empty-dirs --no-resave-data isobar StartedAt: 2025-02-18 17:06:05 -0500 (Tue, 18 Feb 2025) EndedAt: 2025-02-18 17:07:34 -0500 (Tue, 18 Feb 2025) EllapsedTime: 89.1 seconds RetCode: 0 Status: OK PackageFile: isobar_1.53.0.tar.gz PackageFileSize: 2.77 MiB