Package: isobar Version: 1.53.0 Command: /home/biocbuild/R/R/bin/R CMD build --keep-empty-dirs --no-resave-data isobar StartedAt: 2025-01-28 23:50:13 -0000 (Tue, 28 Jan 2025) EndedAt: 2025-01-28 23:51:47 -0000 (Tue, 28 Jan 2025) EllapsedTime: 94.0 seconds RetCode: 0 Status: OK PackageFile: isobar_1.53.0.tar.gz PackageFileSize: 2.802 MiB