Package: isobar Version: 1.53.0 Command: /Library/Frameworks/R.framework/Resources/bin/R CMD INSTALL isobar StartedAt: 2025-02-18 15:19:17 -0500 (Tue, 18 Feb 2025) EndedAt: 2025-02-18 15:19:28 -0500 (Tue, 18 Feb 2025) EllapsedTime: 10.9 seconds RetCode: 0 Status: OK