Package: ipdDb Version: 1.25.0 Command: E:\biocbuild\bbs-3.21-bioc\R\bin\R.exe CMD INSTALL ipdDb StartedAt: 2025-02-20 15:49:40 -0500 (Thu, 20 Feb 2025) EndedAt: 2025-02-20 15:50:13 -0500 (Thu, 20 Feb 2025) EllapsedTime: 33.5 seconds RetCode: 0 Status: OK