Package: ipdDb Version: 1.25.0 Command: /home/biocbuild/bbs-3.21-bioc/R/bin/R CMD build --keep-empty-dirs --no-resave-data ipdDb StartedAt: 2025-02-20 17:54:41 -0500 (Thu, 20 Feb 2025) EndedAt: 2025-02-20 17:54:58 -0500 (Thu, 20 Feb 2025) EllapsedTime: 17.0 seconds RetCode: 0 Status: OK PackageFile: ipdDb_1.25.0.tar.gz PackageFileSize: 21.03 KiB