Package: ipdDb Version: 1.25.0 Command: /Library/Frameworks/R.framework/Resources/bin/R CMD check --install=check:ipdDb.install-out.txt --library=/Library/Frameworks/R.framework/Resources/library --no-vignettes --timings ipdDb_1.25.0.tar.gz StartedAt: 2025-02-20 21:09:08 -0500 (Thu, 20 Feb 2025) EndedAt: 2025-02-20 21:11:48 -0500 (Thu, 20 Feb 2025) EllapsedTime: 160.6 seconds RetCode: 0 Status: OK CheckDir: ipdDb.Rcheck Warnings: 0