Package: ipdDb Version: 1.25.0 Command: /home/biocbuild/R/R/bin/R CMD check --install=check:ipdDb.install-out.txt --library=/home/biocbuild/R/R/site-library --no-vignettes --timings ipdDb_1.25.0.tar.gz StartedAt: 2025-01-28 11:42:28 -0000 (Tue, 28 Jan 2025) EndedAt: 2025-01-28 11:45:57 -0000 (Tue, 28 Jan 2025) EllapsedTime: 209.1 seconds RetCode: 0 Status: OK CheckDir: ipdDb.Rcheck Warnings: 0