Package: ipdDb Version: 1.25.0 Command: /Library/Frameworks/R.framework/Resources/bin/R CMD build --keep-empty-dirs --no-resave-data ipdDb StartedAt: 2025-02-20 16:43:53 -0500 (Thu, 20 Feb 2025) EndedAt: 2025-02-20 16:44:01 -0500 (Thu, 20 Feb 2025) EllapsedTime: 7.1 seconds RetCode: 0 Status: OK PackageFile: ipdDb_1.25.0.tar.gz PackageFileSize: 20.86 KiB