Package: interactiveDisplayBase Version: 1.45.0 Command: E:\biocbuild\bbs-3.21-bioc\R\bin\R.exe CMD check --no-multiarch --install=check:interactiveDisplayBase.install-out.txt --library=E:\biocbuild\bbs-3.21-bioc\R\library --no-vignettes --timings interactiveDisplayBase_1.45.0.tar.gz StartedAt: 2025-02-21 02:28:29 -0500 (Fri, 21 Feb 2025) EndedAt: 2025-02-21 02:29:16 -0500 (Fri, 21 Feb 2025) EllapsedTime: 47.2 seconds RetCode: 0 Status: OK CheckDir: interactiveDisplayBase.Rcheck Warnings: 0