Package: interactiveDisplayBase Version: 1.45.0 Command: chmod a+r interactiveDisplayBase -R && E:\biocbuild\bbs-3.21-bioc\R\bin\R.exe CMD build --keep-empty-dirs --no-resave-data interactiveDisplayBase StartedAt: 2025-02-20 19:29:19 -0500 (Thu, 20 Feb 2025) EndedAt: 2025-02-20 19:29:29 -0500 (Thu, 20 Feb 2025) EllapsedTime: 9.9 seconds RetCode: 0 Status: OK PackageFile: interactiveDisplayBase_1.45.0.tar.gz PackageFileSize: 7.515 KiB