Package: interactiveDisplayBase Version: 1.45.0 Command: /home/biocbuild/bbs-3.21-bioc/R/bin/R CMD INSTALL interactiveDisplayBase StartedAt: 2025-02-19 15:14:43 -0500 (Wed, 19 Feb 2025) EndedAt: 2025-02-19 15:14:47 -0500 (Wed, 19 Feb 2025) EllapsedTime: 4.7 seconds RetCode: 0 Status: OK