Package: interactiveDisplayBase Version: 1.46.0 Command: /Library/Frameworks/R.framework/Resources/bin/R CMD INSTALL interactiveDisplayBase StartedAt: 2025-09-29 15:18:39 -0400 (Mon, 29 Sep 2025) EndedAt: 2025-09-29 15:18:47 -0400 (Mon, 29 Sep 2025) EllapsedTime: 7.4 seconds RetCode: 0 Status: OK