Package: interactiveDisplayBase Version: 1.45.0 Command: /Library/Frameworks/R.framework/Resources/bin/R CMD INSTALL interactiveDisplayBase StartedAt: 2025-02-20 15:29:56 -0500 (Thu, 20 Feb 2025) EndedAt: 2025-02-20 15:29:58 -0500 (Thu, 20 Feb 2025) EllapsedTime: 2.0 seconds RetCode: 0 Status: OK