Package: interactiveDisplayBase Version: 1.45.0 Command: /Library/Frameworks/R.framework/Resources/bin/R CMD check --install=check:interactiveDisplayBase.install-out.txt --library=/Library/Frameworks/R.framework/Resources/library --no-vignettes --timings interactiveDisplayBase_1.45.0.tar.gz StartedAt: 2025-02-20 19:48:33 -0500 (Thu, 20 Feb 2025) EndedAt: 2025-02-20 19:48:47 -0500 (Thu, 20 Feb 2025) EllapsedTime: 14.1 seconds RetCode: 0 Status: OK CheckDir: interactiveDisplayBase.Rcheck Warnings: 0