Package: interactiveDisplayBase Version: 1.45.0 Command: /Library/Frameworks/R.framework/Resources/bin/R CMD build --keep-empty-dirs --no-resave-data interactiveDisplayBase StartedAt: 2025-02-20 16:43:36 -0500 (Thu, 20 Feb 2025) EndedAt: 2025-02-20 16:43:39 -0500 (Thu, 20 Feb 2025) EllapsedTime: 3.0 seconds RetCode: 0 Status: OK PackageFile: interactiveDisplayBase_1.45.0.tar.gz PackageFileSize: 7.568 KiB