Package: interactiveDisplayBase Version: 1.45.0 Command: rm -rf interactiveDisplayBase.buildbin-libdir && mkdir interactiveDisplayBase.buildbin-libdir && /Users/biocbuild/BBS/utils/build-universal.sh interactiveDisplayBase_1.45.0.tar.gz /Library/Frameworks/R.framework/Resources/bin/R interactiveDisplayBase.buildbin-libdir StartedAt: 2025-02-20 22:22:49 -0500 (Thu, 20 Feb 2025) EndedAt: 2025-02-20 22:22:52 -0500 (Thu, 20 Feb 2025) EllapsedTime: 3.0 seconds RetCode: 0 Status: OK PackageFile: interactiveDisplayBase_1.45.0.tgz PackageFileSize: 28.2 KiB