Package: interactiveDisplay Version: 1.45.1 Command: E:\biocbuild\bbs-3.21-bioc\R\bin\R.exe CMD INSTALL interactiveDisplay StartedAt: 2025-02-20 17:02:28 -0500 (Thu, 20 Feb 2025) EndedAt: 2025-02-20 17:02:58 -0500 (Thu, 20 Feb 2025) EllapsedTime: 29.7 seconds RetCode: 0 Status: OK