Package: interactiveDisplay Version: 1.45.1 Command: E:\biocbuild\bbs-3.21-bioc\R\bin\R.exe CMD check --no-multiarch --install=check:interactiveDisplay.install-out.txt --library=E:\biocbuild\bbs-3.21-bioc\R\library --no-vignettes --timings interactiveDisplay_1.45.1.tar.gz StartedAt: 2025-02-21 02:28:07 -0500 (Fri, 21 Feb 2025) EndedAt: 2025-02-21 02:31:26 -0500 (Fri, 21 Feb 2025) EllapsedTime: 199.1 seconds RetCode: 0 Status: OK CheckDir: interactiveDisplay.Rcheck Warnings: 0