Package: interactiveDisplay Version: 1.45.1 Command: rm -rf interactiveDisplay.buildbin-libdir && mkdir interactiveDisplay.buildbin-libdir && E:\biocbuild\bbs-3.21-bioc\R\bin\R.exe CMD INSTALL --build --library=interactiveDisplay.buildbin-libdir interactiveDisplay_1.45.1.tar.gz StartedAt: 2025-02-21 08:20:41 -0500 (Fri, 21 Feb 2025) EndedAt: 2025-02-21 08:22:59 -0500 (Fri, 21 Feb 2025) EllapsedTime: 138.3 seconds RetCode: 0 Status: OK PackageFile: interactiveDisplay_1.45.1.zip PackageFileSize: 2.44 MiB