Package: interactiveDisplay Version: 1.45.1 Command: /Library/Frameworks/R.framework/Resources/bin/R CMD build --keep-empty-dirs --no-resave-data interactiveDisplay StartedAt: 2025-02-20 17:05:42 -0500 (Thu, 20 Feb 2025) EndedAt: 2025-02-20 17:06:42 -0500 (Thu, 20 Feb 2025) EllapsedTime: 60.5 seconds RetCode: 0 Status: OK PackageFile: interactiveDisplay_1.45.1.tar.gz PackageFileSize: 4.561 MiB