Package: interactiveDisplay Version: 1.45.1 Command: /Library/Frameworks/R.framework/Resources/bin/R CMD check --install=check:interactiveDisplay.install-out.txt --library=/Library/Frameworks/R.framework/Resources/library --no-vignettes --timings interactiveDisplay_1.45.1.tar.gz StartedAt: 2025-02-20 19:48:23 -0500 (Thu, 20 Feb 2025) EndedAt: 2025-02-20 19:49:25 -0500 (Thu, 20 Feb 2025) EllapsedTime: 62.7 seconds RetCode: 0 Status: OK CheckDir: interactiveDisplay.Rcheck Warnings: 0