Package: interacCircos Version: 1.17.0 Command: /Library/Frameworks/R.framework/Resources/bin/R CMD check --install=check:interacCircos.install-out.txt --library=/Library/Frameworks/R.framework/Resources/library --no-vignettes --timings interacCircos_1.17.0.tar.gz StartedAt: 2025-02-20 21:07:36 -0500 (Thu, 20 Feb 2025) EndedAt: 2025-02-20 21:08:18 -0500 (Thu, 20 Feb 2025) EllapsedTime: 42.4 seconds RetCode: 0 Status: OK CheckDir: interacCircos.Rcheck Warnings: 0