Package: interacCircos Version: 1.17.0 Command: /Library/Frameworks/R.framework/Resources/bin/R CMD build --keep-empty-dirs --no-resave-data interacCircos StartedAt: 2025-02-20 17:05:31 -0500 (Thu, 20 Feb 2025) EndedAt: 2025-02-20 17:05:42 -0500 (Thu, 20 Feb 2025) EllapsedTime: 10.3 seconds RetCode: 0 Status: OK PackageFile: interacCircos_1.17.0.tar.gz PackageFileSize: 710.3 KiB